Package: OncoSimulR Version: 4.12.0 Command: rm -rf OncoSimulR.buildbin-libdir && mkdir OncoSimulR.buildbin-libdir && /Users/biocbuild/BBS/utils/build-universal.sh OncoSimulR_4.12.0.tar.gz /Library/Frameworks/R.framework/Resources/bin/R OncoSimulR.buildbin-libdir StartedAt: 2025-11-04 01:54:22 -0500 (Tue, 04 Nov 2025) EndedAt: 2025-11-04 01:57:13 -0500 (Tue, 04 Nov 2025) EllapsedTime: 170.6 seconds RetCode: 0 Status: OK PackageFile: OncoSimulR_4.12.0.tgz PackageFileSize: 9.623 MiB