Package: OncoScore Version: 1.37.1 Command: /home/biocbuild/bbs-3.22-bioc/R/bin/R CMD INSTALL OncoScore StartedAt: 2025-10-27 16:01:30 -0400 (Mon, 27 Oct 2025) EndedAt: 2025-10-27 16:01:43 -0400 (Mon, 27 Oct 2025) EllapsedTime: 13.5 seconds RetCode: 0 Status: OK