Package: OncoScore Version: 1.38.0 Command: /home/biocbuild/bbs-3.22-bioc/R/bin/R CMD check --install=check:OncoScore.install-out.txt --library=/home/biocbuild/bbs-3.22-bioc/R/site-library --timings OncoScore_1.38.0.tar.gz StartedAt: 2025-11-01 02:26:23 -0400 (Sat, 01 Nov 2025) EndedAt: 2025-11-01 02:28:40 -0400 (Sat, 01 Nov 2025) EllapsedTime: 137.1 seconds RetCode: 0 Status: OK CheckDir: OncoScore.Rcheck Warnings: 0