Package: OncoScore Version: 1.38.0 Command: /Library/Frameworks/R.framework/Resources/bin/R CMD INSTALL OncoScore StartedAt: 2025-11-03 15:52:10 -0500 (Mon, 03 Nov 2025) EndedAt: 2025-11-03 15:52:31 -0500 (Mon, 03 Nov 2025) EllapsedTime: 20.3 seconds RetCode: 0 Status: OK