Package: OncoScore Version: 1.38.0 Command: rm -rf OncoScore.buildbin-libdir && mkdir OncoScore.buildbin-libdir && /Users/biocbuild/BBS/utils/build-universal.sh OncoScore_1.38.0.tar.gz /Library/Frameworks/R.framework/Resources/bin/R OncoScore.buildbin-libdir StartedAt: 2025-11-04 01:54:22 -0500 (Tue, 04 Nov 2025) EndedAt: 2025-11-04 01:54:45 -0500 (Tue, 04 Nov 2025) EllapsedTime: 23.0 seconds RetCode: 0 Status: OK PackageFile: OncoScore_1.38.0.tgz PackageFileSize: 970.3 KiB