Package: OncoScore Version: 1.37.1 Command: /Library/Frameworks/R.framework/Resources/bin/R CMD INSTALL OncoScore StartedAt: 2025-10-27 15:31:17 -0400 (Mon, 27 Oct 2025) EndedAt: 2025-10-27 15:31:22 -0400 (Mon, 27 Oct 2025) EllapsedTime: 5.4 seconds RetCode: 0 Status: OK