Package: OncoScore Version: 1.37.1 Command: /Library/Frameworks/R.framework/Resources/bin/R CMD build --keep-empty-dirs --no-resave-data OncoScore StartedAt: 2025-10-27 17:14:48 -0400 (Mon, 27 Oct 2025) EndedAt: 2025-10-27 17:15:26 -0400 (Mon, 27 Oct 2025) EllapsedTime: 37.4 seconds RetCode: 0 Status: OK PackageFile: OncoScore_1.37.1.tar.gz PackageFileSize: 916.9 KiB