Package: OmnipathR Version: 3.17.7 Command: /home/biocbuild/bbs-3.22-bioc/R/bin/R CMD INSTALL OmnipathR StartedAt: 2025-10-24 15:19:25 -0400 (Fri, 24 Oct 2025) EndedAt: 2025-10-24 15:19:42 -0400 (Fri, 24 Oct 2025) EllapsedTime: 17.6 seconds RetCode: 0 Status: OK