Package: OmnipathR Version: 3.17.7 Command: /home/biocbuild/bbs-3.22-bioc/R/bin/R CMD build --keep-empty-dirs --no-resave-data --md5 OmnipathR StartedAt: 2025-10-24 19:14:58 -0400 (Fri, 24 Oct 2025) EndedAt: 2025-10-24 19:30:00 -0400 (Fri, 24 Oct 2025) EllapsedTime: 902.0 seconds RetCode: 0 Status: OK PackageFile: OmnipathR_3.17.7.tar.gz PackageFileSize: 3.582 MiB