Package: OmicsMLRepoR Version: 1.3.3 Command: /home/biocbuild/R/R/bin/R CMD INSTALL OmicsMLRepoR StartedAt: 2025-10-23 20:32:40 -0000 (Thu, 23 Oct 2025) EndedAt: 2025-10-23 20:32:49 -0000 (Thu, 23 Oct 2025) EllapsedTime: 9.8 seconds RetCode: 0 Status: OK