Package: OmicsMLRepoR Version: 1.3.3 Command: /home/biocbuild/bbs-3.22-bioc/R/bin/R CMD check --install=check:OmicsMLRepoR.install-out.txt --library=/home/biocbuild/bbs-3.22-bioc/R/site-library --timings OmicsMLRepoR_1.3.3.tar.gz StartedAt: 2025-10-25 02:20:02 -0400 (Sat, 25 Oct 2025) EndedAt: 2025-10-25 02:23:00 -0400 (Sat, 25 Oct 2025) EllapsedTime: 178.2 seconds RetCode: 0 Status: OK CheckDir: OmicsMLRepoR.Rcheck Warnings: 0