Package: OmicsMLRepoR Version: 1.3.3 Command: /Library/Frameworks/R.framework/Resources/bin/R CMD INSTALL OmicsMLRepoR StartedAt: 2025-10-24 15:23:47 -0400 (Fri, 24 Oct 2025) EndedAt: 2025-10-24 15:24:10 -0400 (Fri, 24 Oct 2025) EllapsedTime: 22.7 seconds RetCode: 0 Status: OK