Package: OmicsMLRepoR Version: 1.3.3 Command: /Library/Frameworks/R.framework/Resources/bin/R CMD build --keep-empty-dirs --no-resave-data OmicsMLRepoR StartedAt: 2025-10-27 17:59:21 -0400 (Mon, 27 Oct 2025) EndedAt: 2025-10-27 18:01:03 -0400 (Mon, 27 Oct 2025) EllapsedTime: 101.6 seconds RetCode: 0 Status: OK PackageFile: OmicsMLRepoR_1.3.3.tar.gz PackageFileSize: 431.5 KiB