Package: OmicsMLRepoR Version: 1.3.3 Maintainer: Sehyun Oh MaintainerEmail: shbrief at gmail.com git_url: https://git.bioconductor.org/packages/OmicsMLRepoR git_branch: devel git_last_commit: bf571cf git_last_commit_date: 2025-09-22 15:22:43 -0400 (Mon, 22 Sep 2025)