Package: OmicCircos Version: 1.47.0 Command: /home/biocbuild/bbs-3.22-bioc/R/bin/R CMD INSTALL OmicCircos StartedAt: 2025-10-24 15:27:14 -0400 (Fri, 24 Oct 2025) EndedAt: 2025-10-24 15:27:25 -0400 (Fri, 24 Oct 2025) EllapsedTime: 11.0 seconds RetCode: 0 Status: OK