Package: OmicCircos Version: 1.47.0 Command: /home/biocbuild/bbs-3.22-bioc/R/bin/R CMD build --keep-empty-dirs --no-resave-data --md5 OmicCircos StartedAt: 2025-10-24 19:13:34 -0400 (Fri, 24 Oct 2025) EndedAt: 2025-10-24 19:14:01 -0400 (Fri, 24 Oct 2025) EllapsedTime: 27.0 seconds RetCode: 0 Status: OK PackageFile: OmicCircos_1.47.0.tar.gz PackageFileSize: 2.81 MiB