Package: OmicCircos Version: 1.48.0 Command: rm -rf OmicCircos.buildbin-libdir && mkdir OmicCircos.buildbin-libdir && /Users/biocbuild/BBS/utils/build-universal.sh OmicCircos_1.48.0.tar.gz /Library/Frameworks/R.framework/Resources/bin/R OmicCircos.buildbin-libdir StartedAt: 2025-11-10 23:30:03 -0500 (Mon, 10 Nov 2025) EndedAt: 2025-11-10 23:30:09 -0500 (Mon, 10 Nov 2025) EllapsedTime: 5.1 seconds RetCode: 0 Status: OK PackageFile: OmicCircos_1.48.0.tgz PackageFileSize: 5.066 MiB