Package: OmaDB Version: 2.25.0 Command: /home/biocbuild/bbs-3.22-bioc/R/bin/R CMD INSTALL OmaDB StartedAt: 2025-10-24 15:50:03 -0400 (Fri, 24 Oct 2025) EndedAt: 2025-10-24 15:50:18 -0400 (Fri, 24 Oct 2025) EllapsedTime: 15.6 seconds RetCode: 0 Status: OK