Package: OVESEG Version: 1.25.0 Command: /home/biocbuild/bbs-3.22-bioc/R/bin/R CMD build --keep-empty-dirs --no-resave-data --md5 OVESEG StartedAt: 2025-10-27 19:10:42 -0400 (Mon, 27 Oct 2025) EndedAt: 2025-10-27 19:16:15 -0400 (Mon, 27 Oct 2025) EllapsedTime: 333.4 seconds RetCode: 0 Status: OK PackageFile: OVESEG_1.25.0.tar.gz PackageFileSize: 800.2 KiB