Package: OUTRIDER Version: 1.27.4 Command: /home/biocbuild/bbs-3.22-bioc/R/bin/R CMD INSTALL OUTRIDER StartedAt: 2025-10-27 15:43:21 -0400 (Mon, 27 Oct 2025) EndedAt: 2025-10-27 15:44:22 -0400 (Mon, 27 Oct 2025) EllapsedTime: 61.2 seconds RetCode: 0 Status: OK