Package: OUTRIDER Version: 1.27.4 Command: /home/biocbuild/bbs-3.22-bioc/R/bin/R CMD build --keep-empty-dirs --no-resave-data --md5 OUTRIDER StartedAt: 2025-10-24 19:18:40 -0400 (Fri, 24 Oct 2025) EndedAt: 2025-10-24 19:24:54 -0400 (Fri, 24 Oct 2025) EllapsedTime: 373.4 seconds RetCode: 0 Status: OK PackageFile: OUTRIDER_1.27.4.tar.gz PackageFileSize: 2.614 MiB