Package: OTUbase Version: 1.59.0 Command: /home/biocbuild/bbs-3.22-bioc/R/bin/R CMD INSTALL OTUbase StartedAt: 2025-10-24 16:02:55 -0400 (Fri, 24 Oct 2025) EndedAt: 2025-10-24 16:03:27 -0400 (Fri, 24 Oct 2025) EllapsedTime: 31.2 seconds RetCode: 0 Status: OK