Package: OSAT Version: 1.58.0 Command: /home/biocbuild/R/R/bin/R CMD INSTALL OSAT StartedAt: 2025-11-20 21:45:36 -0000 (Thu, 20 Nov 2025) EndedAt: 2025-11-20 21:45:53 -0000 (Thu, 20 Nov 2025) EllapsedTime: 16.5 seconds RetCode: 0 Status: OK