Package: OSAT Version: 1.57.0 Command: /home/biocbuild/bbs-3.22-bioc/R/bin/R CMD check --install=check:OSAT.install-out.txt --library=/home/biocbuild/bbs-3.22-bioc/R/site-library --timings OSAT_1.57.0.tar.gz StartedAt: 2025-10-25 02:27:07 -0400 (Sat, 25 Oct 2025) EndedAt: 2025-10-25 02:28:00 -0400 (Sat, 25 Oct 2025) EllapsedTime: 53.1 seconds RetCode: 0 Status: OK CheckDir: OSAT.Rcheck Warnings: 0