Package: OSAT Version: 1.57.0 Command: /home/biocbuild/bbs-3.22-bioc/R/bin/R CMD build --keep-empty-dirs --no-resave-data --md5 OSAT StartedAt: 2025-10-24 19:17:42 -0400 (Fri, 24 Oct 2025) EndedAt: 2025-10-24 19:18:40 -0400 (Fri, 24 Oct 2025) EllapsedTime: 58.1 seconds RetCode: 0 Status: OK PackageFile: OSAT_1.57.0.tar.gz PackageFileSize: 961.7 KiB