Package: OSAT Version: 1.57.0 Command: /Library/Frameworks/R.framework/Resources/bin/R CMD INSTALL OSAT StartedAt: 2025-10-27 15:02:46 -0400 (Mon, 27 Oct 2025) EndedAt: 2025-10-27 15:03:13 -0400 (Mon, 27 Oct 2025) EllapsedTime: 27.6 seconds RetCode: 0 Status: OK