Package: OSAT Version: 1.57.0 Command: /Library/Frameworks/R.framework/Resources/bin/R CMD build --keep-empty-dirs --no-resave-data OSAT StartedAt: 2025-10-24 18:08:13 -0400 (Fri, 24 Oct 2025) EndedAt: 2025-10-24 18:09:11 -0400 (Fri, 24 Oct 2025) EllapsedTime: 57.8 seconds RetCode: 0 Status: OK PackageFile: OSAT_1.57.0.tar.gz PackageFileSize: 958.8 KiB