Package: ORFik Version: 1.29.9 Command: /home/biocbuild/bbs-3.22-bioc/R/bin/R CMD INSTALL ORFik StartedAt: 2025-10-24 15:50:35 -0400 (Fri, 24 Oct 2025) EndedAt: 2025-10-24 15:51:52 -0400 (Fri, 24 Oct 2025) EllapsedTime: 76.6 seconds RetCode: 0 Status: OK