Package: ORFik Version: 1.29.9 Command: /home/biocbuild/bbs-3.22-bioc/R/bin/R CMD build --keep-empty-dirs --no-resave-data --md5 ORFik StartedAt: 2025-10-24 19:16:52 -0400 (Fri, 24 Oct 2025) EndedAt: 2025-10-24 19:22:59 -0400 (Fri, 24 Oct 2025) EllapsedTime: 366.4 seconds RetCode: 0 Status: OK PackageFile: ORFik_1.29.9.tar.gz PackageFileSize: 4.189 MiB