Package: ORFhunteR Version: 1.17.0 Command: /home/biocbuild/bbs-3.22-bioc/R/bin/R CMD INSTALL ORFhunteR StartedAt: 2025-10-24 15:45:44 -0400 (Fri, 24 Oct 2025) EndedAt: 2025-10-24 15:46:28 -0400 (Fri, 24 Oct 2025) EllapsedTime: 43.6 seconds RetCode: 0 Status: OK