Package: ORFhunteR Version: 1.17.0 Command: /home/biocbuild/bbs-3.22-bioc/R/bin/R CMD build --keep-empty-dirs --no-resave-data --md5 ORFhunteR StartedAt: 2025-10-24 19:16:33 -0400 (Fri, 24 Oct 2025) EndedAt: 2025-10-24 19:19:59 -0400 (Fri, 24 Oct 2025) EllapsedTime: 206.3 seconds RetCode: 0 Status: OK PackageFile: ORFhunteR_1.17.0.tar.gz PackageFileSize: 2.109 MiB