Package: ORFhunteR Version: 1.18.0 Command: /Library/Frameworks/R.framework/Resources/bin/R CMD INSTALL ORFhunteR StartedAt: 2025-11-06 15:19:34 -0500 (Thu, 06 Nov 2025) EndedAt: 2025-11-06 15:19:51 -0500 (Thu, 06 Nov 2025) EllapsedTime: 16.7 seconds RetCode: 0 Status: OK