Package: ORFhunteR Version: 1.18.0 Command: /Library/Frameworks/R.framework/Resources/bin/R CMD build --keep-empty-dirs --no-resave-data ORFhunteR StartedAt: 2025-11-06 17:15:31 -0500 (Thu, 06 Nov 2025) EndedAt: 2025-11-06 17:16:37 -0500 (Thu, 06 Nov 2025) EllapsedTime: 65.7 seconds RetCode: 0 Status: OK PackageFile: ORFhunteR_1.18.0.tar.gz PackageFileSize: 2.108 MiB