Package: ORFhunteR Version: 1.18.0 Command: rm -rf ORFhunteR.buildbin-libdir && mkdir ORFhunteR.buildbin-libdir && /Users/biocbuild/BBS/utils/build-universal.sh ORFhunteR_1.18.0.tar.gz /Library/Frameworks/R.framework/Resources/bin/R ORFhunteR.buildbin-libdir StartedAt: 2025-11-06 23:15:24 -0500 (Thu, 06 Nov 2025) EndedAt: 2025-11-06 23:15:42 -0500 (Thu, 06 Nov 2025) EllapsedTime: 18.3 seconds RetCode: 0 Status: OK PackageFile: ORFhunteR_1.18.0.tgz PackageFileSize: 1.452 MiB