Package: OPWeight Version: 1.31.0 Command: /home/biocbuild/bbs-3.22-bioc/R/bin/R CMD INSTALL OPWeight StartedAt: 2025-10-24 15:18:23 -0400 (Fri, 24 Oct 2025) EndedAt: 2025-10-24 15:18:40 -0400 (Fri, 24 Oct 2025) EllapsedTime: 17.2 seconds RetCode: 0 Status: OK