Package: OPWeight Version: 1.31.0 Command: /home/biocbuild/bbs-3.22-bioc/R/bin/R CMD build --keep-empty-dirs --no-resave-data --md5 OPWeight StartedAt: 2025-10-24 19:16:21 -0400 (Fri, 24 Oct 2025) EndedAt: 2025-10-24 19:18:44 -0400 (Fri, 24 Oct 2025) EllapsedTime: 143.2 seconds RetCode: 0 Status: OK PackageFile: OPWeight_1.31.0.tar.gz PackageFileSize: 548.7 KiB