Package: OMICsPCA Version: 1.27.1 Command: /home/biocbuild/bbs-3.22-bioc/R/bin/R CMD INSTALL OMICsPCA StartedAt: 2025-10-24 16:02:09 -0400 (Fri, 24 Oct 2025) EndedAt: 2025-10-24 16:02:58 -0400 (Fri, 24 Oct 2025) EllapsedTime: 49.0 seconds RetCode: 0 Status: OK