Package: OLINgui Version: 1.84.0 Command: /home/biocbuild/bbs-3.22-bioc/R/bin/R CMD build --keep-empty-dirs --no-resave-data --md5 OLINgui StartedAt: 2025-11-13 19:08:58 -0500 (Thu, 13 Nov 2025) EndedAt: 2025-11-13 19:09:07 -0500 (Thu, 13 Nov 2025) EllapsedTime: 9.0 seconds RetCode: 0 Status: OK PackageFile: OLINgui_1.84.0.tar.gz PackageFileSize: 375 KiB