Package: OGRE Version: 1.13.1 Command: /home/biocbuild/bbs-3.22-bioc/R/bin/R CMD INSTALL OGRE StartedAt: 2025-10-24 15:59:25 -0400 (Fri, 24 Oct 2025) EndedAt: 2025-10-24 16:00:16 -0400 (Fri, 24 Oct 2025) EllapsedTime: 51.3 seconds RetCode: 0 Status: OK