Package: OCplus Version: 1.84.0 Command: /home/biocbuild/bbs-3.22-bioc/R/bin/R CMD INSTALL OCplus StartedAt: 2025-11-03 15:14:19 -0500 (Mon, 03 Nov 2025) EndedAt: 2025-11-03 15:14:26 -0500 (Mon, 03 Nov 2025) EllapsedTime: 7.4 seconds RetCode: 0 Status: OK