Package: NuPoP Version: 2.18.0 Command: /home/biocbuild/bbs-3.22-bioc/R/bin/R CMD build --keep-empty-dirs --no-resave-data --md5 NuPoP StartedAt: 2025-11-02 19:19:35 -0500 (Sun, 02 Nov 2025) EndedAt: 2025-11-02 19:19:49 -0500 (Sun, 02 Nov 2025) EllapsedTime: 14.0 seconds RetCode: 0 Status: OK PackageFile: NuPoP_2.18.0.tar.gz PackageFileSize: 6.118 MiB