Package: NormqPCR Version: 1.55.0 Command: /Library/Frameworks/R.framework/Resources/bin/R CMD INSTALL NormqPCR StartedAt: 2025-10-26 15:07:17 -0400 (Sun, 26 Oct 2025) EndedAt: 2025-10-26 15:07:20 -0400 (Sun, 26 Oct 2025) EllapsedTime: 3.5 seconds RetCode: 0 Status: OK