Package: NormqPCR Version: 1.55.0 Command: /Library/Frameworks/R.framework/Resources/bin/R CMD build --keep-empty-dirs --no-resave-data NormqPCR StartedAt: 2025-10-26 17:24:18 -0400 (Sun, 26 Oct 2025) EndedAt: 2025-10-26 17:24:25 -0400 (Sun, 26 Oct 2025) EllapsedTime: 7.1 seconds RetCode: 0 Status: OK PackageFile: NormqPCR_1.55.0.tar.gz PackageFileSize: 418.1 KiB