Package: NewWave Version: 1.19.0 Command: /home/biocbuild/bbs-3.22-bioc/R/bin/R CMD build --keep-empty-dirs --no-resave-data --md5 NewWave StartedAt: 2025-10-24 19:10:32 -0400 (Fri, 24 Oct 2025) EndedAt: 2025-10-24 19:12:35 -0400 (Fri, 24 Oct 2025) EllapsedTime: 123.1 seconds RetCode: 0 Status: OK PackageFile: NewWave_1.19.0.tar.gz PackageFileSize: 82.26 KiB