Package: NetSAM Version: 1.49.0 Command: /Library/Frameworks/R.framework/Resources/bin/R CMD INSTALL NetSAM StartedAt: 2025-10-24 15:27:59 -0400 (Fri, 24 Oct 2025) EndedAt: 2025-10-24 15:28:09 -0400 (Fri, 24 Oct 2025) EllapsedTime: 9.6 seconds RetCode: 0 Status: OK