Package: NetSAM Version: 1.49.0 Command: rm -rf NetSAM.buildbin-libdir && mkdir NetSAM.buildbin-libdir && /Users/biocbuild/BBS/utils/build-universal.sh NetSAM_1.49.0.tar.gz /Library/Frameworks/R.framework/Resources/bin/R NetSAM.buildbin-libdir StartedAt: 2025-10-24 23:12:28 -0400 (Fri, 24 Oct 2025) EndedAt: 2025-10-24 23:12:39 -0400 (Fri, 24 Oct 2025) EllapsedTime: 11.2 seconds RetCode: 0 Status: OK PackageFile: NetSAM_1.49.0.tgz PackageFileSize: 1.233 MiB