Package: NetPathMiner Version: 1.45.0 Command: /home/biocbuild/bbs-3.22-bioc/R/bin/R CMD check --install=check:NetPathMiner.install-out.txt --library=/home/biocbuild/bbs-3.22-bioc/R/site-library --timings NetPathMiner_1.45.0.tar.gz StartedAt: 2025-10-25 02:10:21 -0400 (Sat, 25 Oct 2025) EndedAt: 2025-10-25 02:11:30 -0400 (Sat, 25 Oct 2025) EllapsedTime: 69.1 seconds RetCode: 0 Status: OK CheckDir: NetPathMiner.Rcheck Warnings: 0