Package: NetPathMiner Version: 1.45.0 Command: /Library/Frameworks/R.framework/Resources/bin/R CMD INSTALL NetPathMiner StartedAt: 2025-10-26 15:03:16 -0400 (Sun, 26 Oct 2025) EndedAt: 2025-10-26 15:03:26 -0400 (Sun, 26 Oct 2025) EllapsedTime: 10.2 seconds RetCode: 0 Status: OK