Package: NetPathMiner Version: 1.45.0 Command: /Library/Frameworks/R.framework/Resources/bin/R CMD build --keep-empty-dirs --no-resave-data NetPathMiner StartedAt: 2025-10-26 17:23:07 -0400 (Sun, 26 Oct 2025) EndedAt: 2025-10-26 17:23:18 -0400 (Sun, 26 Oct 2025) EllapsedTime: 11.1 seconds RetCode: 0 Status: OK PackageFile: NetPathMiner_1.45.0.tar.gz PackageFileSize: 2.466 MiB