Package: NetPathMiner Version: 1.45.0 Command: rm -rf NetPathMiner.buildbin-libdir && mkdir NetPathMiner.buildbin-libdir && /Users/biocbuild/BBS/utils/build-universal.sh NetPathMiner_1.45.0.tar.gz /Library/Frameworks/R.framework/Resources/bin/R NetPathMiner.buildbin-libdir StartedAt: 2025-10-26 22:42:56 -0400 (Sun, 26 Oct 2025) EndedAt: 2025-10-26 22:43:03 -0400 (Sun, 26 Oct 2025) EllapsedTime: 7.1 seconds RetCode: 0 Status: OK PackageFile: NetPathMiner_1.45.0.tgz PackageFileSize: 2.592 MiB